BEGIN:VCALENDAR
VERSION:2.0
PRODID:-//eventon.com NONSGML v1.0//EN
CALSCALE:GREGORIAN
METHOD:PUBLISH
BEGIN:VEVENT
UID:69e4cb4f1dcf2
DTSTAMP:20260419T123215Z
DTSTART:20261225
DTEND:20261226
LOCATION:
SUMMARY:CHRISTMAS DAY
DESCRIPTION:CHRISTMAS DAY\nhttps://postaltimes.com/events/christmas-day/
URL:https://postaltimes.com/events/christmas-day/
END:VEVENT
END:VCALENDAR